Package: OUTRIDER Version: 1.25.0 Command: rm -rf OUTRIDER.buildbin-libdir && mkdir OUTRIDER.buildbin-libdir && E:\biocbuild\bbs-3.21-bioc\R\bin\R.exe CMD INSTALL --build --library=OUTRIDER.buildbin-libdir OUTRIDER_1.25.0.tar.gz StartedAt: 2025-02-20 08:22:42 -0500 (Thu, 20 Feb 2025) EndedAt: 2025-02-20 08:24:41 -0500 (Thu, 20 Feb 2025) EllapsedTime: 118.7 seconds RetCode: 0 Status: OK PackageFile: OUTRIDER_1.25.0.zip PackageFileSize: 2.101 MiB