Package: OUTRIDER Version: 1.25.0 Command: /home/biocbuild/bbs-3.21-bioc/R/bin/R CMD check --install=check:OUTRIDER.install-out.txt --library=/home/biocbuild/bbs-3.21-bioc/R/site-library --timings OUTRIDER_1.25.0.tar.gz StartedAt: 2025-02-20 00:55:15 -0500 (Thu, 20 Feb 2025) EndedAt: 2025-02-20 01:10:06 -0500 (Thu, 20 Feb 2025) EllapsedTime: 890.7 seconds RetCode: 0 Status: OK CheckDir: OUTRIDER.Rcheck Warnings: 0