Package: OUTRIDER Version: 1.25.0 Command: /Library/Frameworks/R.framework/Resources/bin/R CMD build --keep-empty-dirs --no-resave-data OUTRIDER StartedAt: 2025-02-19 17:11:56 -0500 (Wed, 19 Feb 2025) EndedAt: 2025-02-19 17:14:34 -0500 (Wed, 19 Feb 2025) EllapsedTime: 157.8 seconds RetCode: 0 Status: OK PackageFile: OUTRIDER_1.25.0.tar.gz PackageFileSize: 2.494 MiB