Package: OTUbase Version: 1.57.0 Command: rm -rf OTUbase.buildbin-libdir && mkdir OTUbase.buildbin-libdir && /Users/biocbuild/BBS/utils/build-universal.sh OTUbase_1.57.0.tar.gz /Library/Frameworks/R.framework/Resources/bin/R OTUbase.buildbin-libdir StartedAt: 2025-02-22 00:45:23 -0500 (Sat, 22 Feb 2025) EndedAt: 2025-02-22 00:46:08 -0500 (Sat, 22 Feb 2025) EllapsedTime: 45.2 seconds RetCode: 0 Status: OK PackageFile: OTUbase_1.57.0.tgz PackageFileSize: 562.4 KiB