Package: OSAT Version: 1.55.0 Command: chmod a+r OSAT -R && E:\biocbuild\bbs-3.21-bioc\R\bin\R.exe CMD build --keep-empty-dirs --no-resave-data OSAT StartedAt: 2025-02-20 20:35:03 -0500 (Thu, 20 Feb 2025) EndedAt: 2025-02-20 20:36:17 -0500 (Thu, 20 Feb 2025) EllapsedTime: 73.7 seconds RetCode: 0 Status: OK PackageFile: OSAT_1.55.0.tar.gz PackageFileSize: 962.3 KiB