Package: OSAT Version: 1.55.0 Command: rm -rf OSAT.buildbin-libdir && mkdir OSAT.buildbin-libdir && E:\biocbuild\bbs-3.21-bioc\R\bin\R.exe CMD INSTALL --build --library=OSAT.buildbin-libdir OSAT_1.55.0.tar.gz StartedAt: 2025-02-21 08:43:09 -0500 (Fri, 21 Feb 2025) EndedAt: 2025-02-21 08:43:36 -0500 (Fri, 21 Feb 2025) EllapsedTime: 26.8 seconds RetCode: 0 Status: OK PackageFile: OSAT_1.55.0.zip PackageFileSize: 650.1 KiB