Package: OSAT Version: 1.55.0 Command: /home/biocbuild/bbs-3.21-bioc/R/bin/R CMD build --keep-empty-dirs --no-resave-data OSAT StartedAt: 2025-02-20 18:34:34 -0500 (Thu, 20 Feb 2025) EndedAt: 2025-02-20 18:35:09 -0500 (Thu, 20 Feb 2025) EllapsedTime: 34.0 seconds RetCode: 0 Status: OK PackageFile: OSAT_1.55.0.tar.gz PackageFileSize: 960 KiB