Package: OSAT Version: 1.55.0 Command: /Library/Frameworks/R.framework/Resources/bin/R CMD check --install=check:OSAT.install-out.txt --library=/Library/Frameworks/R.framework/Resources/library --no-vignettes --timings OSAT_1.55.0.tar.gz StartedAt: 2025-02-20 22:10:22 -0500 (Thu, 20 Feb 2025) EndedAt: 2025-02-20 22:10:59 -0500 (Thu, 20 Feb 2025) EllapsedTime: 36.8 seconds RetCode: 0 Status: OK CheckDir: OSAT.Rcheck Warnings: 0