Package: OSAT Version: 1.55.0 Command: /Library/Frameworks/R.framework/Resources/bin/R CMD build --keep-empty-dirs --no-resave-data OSAT StartedAt: 2025-02-20 17:40:53 -0500 (Thu, 20 Feb 2025) EndedAt: 2025-02-20 17:41:35 -0500 (Thu, 20 Feb 2025) EllapsedTime: 41.5 seconds RetCode: 0 Status: OK PackageFile: OSAT_1.55.0.tar.gz PackageFileSize: 960.2 KiB