Package: OSAT Version: 1.55.0 Command: /Library/Frameworks/R.framework/Resources/bin/R CMD check --install=check:OSAT.install-out.txt --library=/Library/Frameworks/R.framework/Resources/library --no-vignettes --timings OSAT_1.55.0.tar.gz StartedAt: 2025-02-20 20:36:04 -0500 (Thu, 20 Feb 2025) EndedAt: 2025-02-20 20:36:18 -0500 (Thu, 20 Feb 2025) EllapsedTime: 14.2 seconds RetCode: 0 Status: OK CheckDir: OSAT.Rcheck Warnings: 0