Package: ORFik Version: 1.27.3 Command: E:\biocbuild\bbs-3.21-bioc\R\bin\R.exe CMD INSTALL ORFik StartedAt: 2025-02-19 16:08:26 -0500 (Wed, 19 Feb 2025) EndedAt: 2025-02-19 16:11:30 -0500 (Wed, 19 Feb 2025) EllapsedTime: 184.1 seconds RetCode: 0 Status: OK