Package: ORFik Version: 1.27.3 Command: E:\biocbuild\bbs-3.21-bioc\R\bin\R.exe CMD check --no-multiarch --install=check:ORFik.install-out.txt --library=E:\biocbuild\bbs-3.21-bioc\R\library --no-vignettes --timings ORFik_1.27.3.tar.gz StartedAt: 2025-02-20 03:50:34 -0500 (Thu, 20 Feb 2025) EndedAt: 2025-02-20 04:08:23 -0500 (Thu, 20 Feb 2025) EllapsedTime: 1069.2 seconds RetCode: 0 Status: OK CheckDir: ORFik.Rcheck Warnings: 0