Package: ORFik Version: 1.27.3 Command: rm -rf ORFik.buildbin-libdir && mkdir ORFik.buildbin-libdir && E:\biocbuild\bbs-3.21-bioc\R\bin\R.exe CMD INSTALL --build --library=ORFik.buildbin-libdir ORFik_1.27.3.tar.gz StartedAt: 2025-02-20 08:22:10 -0500 (Thu, 20 Feb 2025) EndedAt: 2025-02-20 08:26:40 -0500 (Thu, 20 Feb 2025) EllapsedTime: 269.9 seconds RetCode: 0 Status: OK PackageFile: ORFik_1.27.3.zip PackageFileSize: 5.181 MiB