Package: ORFik Version: 1.27.3 Command: /home/biocbuild/bbs-3.21-bioc/R/bin/R CMD build --keep-empty-dirs --no-resave-data ORFik StartedAt: 2025-02-20 18:34:14 -0500 (Thu, 20 Feb 2025) EndedAt: 2025-02-20 18:40:16 -0500 (Thu, 20 Feb 2025) EllapsedTime: 361.7 seconds RetCode: 0 Status: OK PackageFile: ORFik_1.27.3.tar.gz PackageFileSize: 3.926 MiB