Package: ORFik Version: 1.27.3 Command: /Library/Frameworks/R.framework/Resources/bin/R CMD build --keep-empty-dirs --no-resave-data ORFik StartedAt: 2025-02-19 17:11:16 -0500 (Wed, 19 Feb 2025) EndedAt: 2025-02-19 17:13:22 -0500 (Wed, 19 Feb 2025) EllapsedTime: 126.3 seconds RetCode: 0 Status: OK PackageFile: ORFik_1.27.3.tar.gz PackageFileSize: 3.928 MiB