Package: ORFhunteR Version: 1.15.0 Command: chmod a+r ORFhunteR -R && E:\biocbuild\bbs-3.21-bioc\R\bin\R.exe CMD build --keep-empty-dirs --no-resave-data ORFhunteR StartedAt: 2025-02-18 20:25:59 -0500 (Tue, 18 Feb 2025) EndedAt: 2025-02-18 20:29:49 -0500 (Tue, 18 Feb 2025) EllapsedTime: 230.1 seconds RetCode: 0 Status: OK PackageFile: ORFhunteR_1.15.0.tar.gz PackageFileSize: 2.108 MiB