Package: ORFhunteR Version: 1.15.0 Command: /Library/Frameworks/R.framework/Resources/bin/R CMD INSTALL ORFhunteR StartedAt: 2025-02-18 15:20:14 -0500 (Tue, 18 Feb 2025) EndedAt: 2025-02-18 15:21:09 -0500 (Tue, 18 Feb 2025) EllapsedTime: 54.8 seconds RetCode: 0 Status: OK