Package: OMICsPCA Version: 1.25.0 Command: chmod a+r OMICsPCA -R && E:\biocbuild\bbs-3.21-bioc\R\bin\R.exe CMD build --keep-empty-dirs --no-resave-data OMICsPCA StartedAt: 2025-02-18 20:22:05 -0500 (Tue, 18 Feb 2025) EndedAt: 2025-02-18 20:49:29 -0500 (Tue, 18 Feb 2025) EllapsedTime: 1643.8 seconds RetCode: 0 Status: OK PackageFile: OMICsPCA_1.25.0.tar.gz PackageFileSize: 1.622 MiB