Package: OMICsPCA Version: 1.25.0 Command: /home/biocbuild/bbs-3.21-bioc/R/bin/R CMD check --install=check:OMICsPCA.install-out.txt --library=/home/biocbuild/bbs-3.21-bioc/R/site-library --timings OMICsPCA_1.25.0.tar.gz StartedAt: 2025-02-18 00:37:39 -0500 (Tue, 18 Feb 2025) EndedAt: 2025-02-18 00:45:05 -0500 (Tue, 18 Feb 2025) EllapsedTime: 445.6 seconds RetCode: 0 Status: OK CheckDir: OMICsPCA.Rcheck Warnings: 0