Package: OMICsPCA Version: 1.25.0 Command: /Library/Frameworks/R.framework/Resources/bin/R CMD INSTALL OMICsPCA StartedAt: 2025-02-17 15:43:15 -0500 (Mon, 17 Feb 2025) EndedAt: 2025-02-17 15:44:21 -0500 (Mon, 17 Feb 2025) EllapsedTime: 66.1 seconds RetCode: 0 Status: OK