Package: OMICsPCA Version: 1.25.0 Command: /home/biocbuild/R/R/bin/R CMD check --install=check:OMICsPCA.install-out.txt --library=/home/biocbuild/R/R/site-library --no-vignettes --timings OMICsPCA_1.25.0.tar.gz StartedAt: 2025-01-28 13:27:54 -0000 (Tue, 28 Jan 2025) EndedAt: 2025-01-28 13:38:34 -0000 (Tue, 28 Jan 2025) EllapsedTime: 640.5 seconds RetCode: 0 Status: WARNINGS CheckDir: OMICsPCA.Rcheck Warnings: 5