Package: OMICsPCA Version: 1.25.0 Command: /Library/Frameworks/R.framework/Resources/bin/R CMD INSTALL OMICsPCA StartedAt: 2025-02-17 15:28:56 -0500 (Mon, 17 Feb 2025) EndedAt: 2025-02-17 15:29:17 -0500 (Mon, 17 Feb 2025) EllapsedTime: 20.6 seconds RetCode: 0 Status: OK