Package: OMICsPCA Version: 1.25.0 Command: /Library/Frameworks/R.framework/Resources/bin/R CMD check --install=check:OMICsPCA.install-out.txt --library=/Library/Frameworks/R.framework/Resources/library --no-vignettes --timings OMICsPCA_1.25.0.tar.gz StartedAt: 2025-02-17 20:32:10 -0500 (Mon, 17 Feb 2025) EndedAt: 2025-02-17 20:34:30 -0500 (Mon, 17 Feb 2025) EllapsedTime: 140.6 seconds RetCode: 0 Status: OK CheckDir: OMICsPCA.Rcheck Warnings: 0