Package: OMICsPCA Version: 1.25.0 Command: /Library/Frameworks/R.framework/Resources/bin/R CMD build --keep-empty-dirs --no-resave-data OMICsPCA StartedAt: 2025-02-17 17:07:54 -0500 (Mon, 17 Feb 2025) EndedAt: 2025-02-17 17:08:42 -0500 (Mon, 17 Feb 2025) EllapsedTime: 48.6 seconds RetCode: 0 Status: OK PackageFile: OMICsPCA_1.25.0.tar.gz PackageFileSize: 7.787 MiB