Package: OMICsPCA Version: 1.25.0 Command: rm -rf OMICsPCA.buildbin-libdir && mkdir OMICsPCA.buildbin-libdir && /Users/biocbuild/BBS/utils/build-universal.sh OMICsPCA_1.25.0.tar.gz /Library/Frameworks/R.framework/Resources/bin/R OMICsPCA.buildbin-libdir StartedAt: 2025-02-17 22:27:14 -0500 (Mon, 17 Feb 2025) EndedAt: 2025-02-17 22:27:37 -0500 (Mon, 17 Feb 2025) EllapsedTime: 22.5 seconds RetCode: 0 Status: OK PackageFile: OMICsPCA_1.25.0.tgz PackageFileSize: 7.882 MiB