Package: OLINgui Version: 1.81.0 Command: E:\biocbuild\bbs-3.21-bioc\R\bin\R.exe CMD INSTALL OLINgui StartedAt: 2025-02-20 15:26:53 -0500 (Thu, 20 Feb 2025) EndedAt: 2025-02-20 15:27:05 -0500 (Thu, 20 Feb 2025) EllapsedTime: 12.9 seconds RetCode: 0 Status: OK