Package: OLINgui Version: 1.81.0 Command: E:\biocbuild\bbs-3.21-bioc\R\bin\R.exe CMD check --no-multiarch --install=check:OLINgui.install-out.txt --library=E:\biocbuild\bbs-3.21-bioc\R\library --no-vignettes --timings OLINgui_1.81.0.tar.gz StartedAt: 2025-02-21 04:00:30 -0500 (Fri, 21 Feb 2025) EndedAt: 2025-02-21 04:01:20 -0500 (Fri, 21 Feb 2025) EllapsedTime: 50.5 seconds RetCode: 0 Status: OK CheckDir: OLINgui.Rcheck Warnings: 0