Package: OLINgui Version: 1.81.0 Command: chmod a+r OLINgui -R && E:\biocbuild\bbs-3.21-bioc\R\bin\R.exe CMD build --keep-empty-dirs --no-resave-data OLINgui StartedAt: 2025-02-20 20:28:31 -0500 (Thu, 20 Feb 2025) EndedAt: 2025-02-20 20:28:52 -0500 (Thu, 20 Feb 2025) EllapsedTime: 21.4 seconds RetCode: 0 Status: OK PackageFile: OLINgui_1.81.0.tar.gz PackageFileSize: 234.2 KiB