Package: OLINgui Version: 1.81.0 Command: /Library/Frameworks/R.framework/Resources/bin/R CMD build --keep-empty-dirs --no-resave-data OLINgui StartedAt: 2025-02-21 17:39:16 -0500 (Fri, 21 Feb 2025) EndedAt: 2025-02-21 17:39:42 -0500 (Fri, 21 Feb 2025) EllapsedTime: 25.8 seconds RetCode: 0 Status: OK PackageFile: OLINgui_1.81.0.tar.gz PackageFileSize: 373.6 KiB