Package: OLINgui Version: 1.81.0 Command: /Library/Frameworks/R.framework/Resources/bin/R CMD check --install=check:OLINgui.install-out.txt --library=/Library/Frameworks/R.framework/Resources/library --no-vignettes --timings OLINgui_1.81.0.tar.gz StartedAt: 2025-02-20 20:32:15 -0500 (Thu, 20 Feb 2025) EndedAt: 2025-02-20 20:32:31 -0500 (Thu, 20 Feb 2025) EllapsedTime: 16.3 seconds RetCode: 0 Status: OK CheckDir: OLINgui.Rcheck Warnings: 0