Package: OLIN Version: 1.85.0 Command: E:\biocbuild\bbs-3.21-bioc\R\bin\R.exe CMD INSTALL OLIN StartedAt: 2025-02-19 15:27:02 -0500 (Wed, 19 Feb 2025) EndedAt: 2025-02-19 15:27:20 -0500 (Wed, 19 Feb 2025) EllapsedTime: 17.7 seconds RetCode: 0 Status: OK