Package: OLIN Version: 1.85.0 Command: E:\biocbuild\bbs-3.21-bioc\R\bin\R.exe CMD check --no-multiarch --install=check:OLIN.install-out.txt --library=E:\biocbuild\bbs-3.21-bioc\R\library --no-vignettes --timings OLIN_1.85.0.tar.gz StartedAt: 2025-02-20 03:44:17 -0500 (Thu, 20 Feb 2025) EndedAt: 2025-02-20 03:45:26 -0500 (Thu, 20 Feb 2025) EllapsedTime: 69.1 seconds RetCode: 0 Status: OK CheckDir: OLIN.Rcheck Warnings: 0