Package: OLIN Version: 1.85.0 Command: /Library/Frameworks/R.framework/Resources/bin/R CMD build --keep-empty-dirs --no-resave-data OLIN StartedAt: 2025-02-18 17:36:59 -0500 (Tue, 18 Feb 2025) EndedAt: 2025-02-18 17:37:46 -0500 (Tue, 18 Feb 2025) EllapsedTime: 47.1 seconds RetCode: 0 Status: OK PackageFile: OLIN_1.85.0.tar.gz PackageFileSize: 2.559 MiB