Package: OGRE Version: 1.11.0 Command: /Library/Frameworks/R.framework/Resources/bin/R CMD check --install=check:OGRE.install-out.txt --library=/Library/Frameworks/R.framework/Resources/library --no-vignettes --timings OGRE_1.11.0.tar.gz StartedAt: 2025-02-20 22:05:19 -0500 (Thu, 20 Feb 2025) EndedAt: 2025-02-20 22:13:58 -0500 (Thu, 20 Feb 2025) EllapsedTime: 518.8 seconds RetCode: 0 Status: OK CheckDir: OGRE.Rcheck Warnings: 0