Package: OGRE Version: 1.11.0 Command: /Library/Frameworks/R.framework/Resources/bin/R CMD build --keep-empty-dirs --no-resave-data OGRE StartedAt: 2025-02-20 17:38:31 -0500 (Thu, 20 Feb 2025) EndedAt: 2025-02-20 17:40:29 -0500 (Thu, 20 Feb 2025) EllapsedTime: 118.7 seconds RetCode: 0 Status: OK PackageFile: OGRE_1.11.0.tar.gz PackageFileSize: 1.73 MiB