Package: OCplus Version: 1.81.0 Command: rm -rf OCplus.buildbin-libdir && mkdir OCplus.buildbin-libdir && E:\biocbuild\bbs-3.21-bioc\R\bin\R.exe CMD INSTALL --build --library=OCplus.buildbin-libdir OCplus_1.81.0.tar.gz StartedAt: 2025-02-21 08:41:22 -0500 (Fri, 21 Feb 2025) EndedAt: 2025-02-21 08:41:36 -0500 (Fri, 21 Feb 2025) EllapsedTime: 14.5 seconds RetCode: 0 Status: OK PackageFile: OCplus_1.81.0.zip PackageFileSize: 9.723 MiB