Package: OCplus Version: 1.81.0 Command: /home/biocbuild/bbs-3.21-bioc/R/bin/R CMD INSTALL OCplus StartedAt: 2025-02-20 15:23:51 -0500 (Thu, 20 Feb 2025) EndedAt: 2025-02-20 15:23:58 -0500 (Thu, 20 Feb 2025) EllapsedTime: 7.2 seconds RetCode: 0 Status: OK