Package: OCplus Version: 1.81.0 Command: /Library/Frameworks/R.framework/Resources/bin/R CMD INSTALL OCplus StartedAt: 2025-02-20 15:34:34 -0500 (Thu, 20 Feb 2025) EndedAt: 2025-02-20 15:34:44 -0500 (Thu, 20 Feb 2025) EllapsedTime: 10.5 seconds RetCode: 0 Status: OK