Package: NuPoP Version: 2.15.0 Command: /Library/Frameworks/R.framework/Resources/bin/R CMD check --install=check:NuPoP.install-out.txt --library=/Library/Frameworks/R.framework/Resources/library --no-vignettes --timings NuPoP_2.15.0.tar.gz StartedAt: 2025-02-19 22:05:08 -0500 (Wed, 19 Feb 2025) EndedAt: 2025-02-19 22:05:46 -0500 (Wed, 19 Feb 2025) EllapsedTime: 37.9 seconds RetCode: 0 Status: OK CheckDir: NuPoP.Rcheck Warnings: 0