Package: NuPoP Version: 2.15.0 Command: /home/biocbuild/R/R/bin/R CMD check --install=check:NuPoP.install-out.txt --library=/home/biocbuild/R/R/site-library --no-vignettes --timings NuPoP_2.15.0.tar.gz StartedAt: 2025-01-28 13:24:59 -0000 (Tue, 28 Jan 2025) EndedAt: 2025-01-28 13:25:45 -0000 (Tue, 28 Jan 2025) EllapsedTime: 46.1 seconds RetCode: 0 Status: OK CheckDir: NuPoP.Rcheck Warnings: 0