Package: NuPoP Version: 2.15.0 Command: /Library/Frameworks/R.framework/Resources/bin/R CMD build --keep-empty-dirs --no-resave-data NuPoP StartedAt: 2025-02-19 17:09:36 -0500 (Wed, 19 Feb 2025) EndedAt: 2025-02-19 17:09:45 -0500 (Wed, 19 Feb 2025) EllapsedTime: 9.1 seconds RetCode: 0 Status: OK PackageFile: NuPoP_2.15.0.tar.gz PackageFileSize: 6.133 MiB