Package: NuPoP Version: 2.15.0 Command: rm -rf NuPoP.buildbin-libdir && mkdir NuPoP.buildbin-libdir && /Users/biocbuild/BBS/utils/build-universal.sh NuPoP_2.15.0.tar.gz /Library/Frameworks/R.framework/Resources/bin/R NuPoP.buildbin-libdir StartedAt: 2025-02-19 22:31:38 -0500 (Wed, 19 Feb 2025) EndedAt: 2025-02-19 22:31:46 -0500 (Wed, 19 Feb 2025) EllapsedTime: 8.2 seconds RetCode: 0 Status: OK PackageFile: NuPoP_2.15.0.tgz PackageFileSize: 4.398 MiB