Package: NormqPCR Version: 1.53.0 Command: /Library/Frameworks/R.framework/Resources/bin/R CMD INSTALL NormqPCR StartedAt: 2025-02-20 15:26:58 -0500 (Thu, 20 Feb 2025) EndedAt: 2025-02-20 15:27:08 -0500 (Thu, 20 Feb 2025) EllapsedTime: 9.9 seconds RetCode: 0 Status: OK