Package: NormqPCR Version: 1.53.0 Command: /home/biocbuild/R/R/bin/R CMD INSTALL NormqPCR StartedAt: 2025-01-29 20:12:45 -0000 (Wed, 29 Jan 2025) EndedAt: 2025-01-29 20:12:56 -0000 (Wed, 29 Jan 2025) EllapsedTime: 10.3 seconds RetCode: 0 Status: OK