Package: NormqPCR Version: 1.53.0 Command: /Library/Frameworks/R.framework/Resources/bin/R CMD build --keep-empty-dirs --no-resave-data NormqPCR StartedAt: 2025-02-20 17:08:13 -0500 (Thu, 20 Feb 2025) EndedAt: 2025-02-20 17:08:21 -0500 (Thu, 20 Feb 2025) EllapsedTime: 8.1 seconds RetCode: 0 Status: OK PackageFile: NormqPCR_1.53.0.tar.gz PackageFileSize: 417.6 KiB