Package: NormqPCR Version: 1.53.0 Command: rm -rf NormqPCR.buildbin-libdir && mkdir NormqPCR.buildbin-libdir && /Users/biocbuild/BBS/utils/build-universal.sh NormqPCR_1.53.0.tar.gz /Library/Frameworks/R.framework/Resources/bin/R NormqPCR.buildbin-libdir StartedAt: 2025-02-20 22:28:22 -0500 (Thu, 20 Feb 2025) EndedAt: 2025-02-20 22:28:26 -0500 (Thu, 20 Feb 2025) EllapsedTime: 4.1 seconds RetCode: 0 Status: OK PackageFile: NormqPCR_1.53.0.tgz PackageFileSize: 502.6 KiB