Package: NormalyzerDE Version: 1.25.0 Command: rm -rf NormalyzerDE.buildbin-libdir && mkdir NormalyzerDE.buildbin-libdir && E:\biocbuild\bbs-3.21-bioc\R\bin\R.exe CMD INSTALL --build --library=NormalyzerDE.buildbin-libdir NormalyzerDE_1.25.0.tar.gz StartedAt: 2025-02-20 08:20:06 -0500 (Thu, 20 Feb 2025) EndedAt: 2025-02-20 08:22:10 -0500 (Thu, 20 Feb 2025) EllapsedTime: 124.5 seconds RetCode: 0 Status: OK PackageFile: NormalyzerDE_1.25.0.zip PackageFileSize: 1.397 MiB