Package: NormalyzerDE Version: 1.25.0 Command: /home/biocbuild/bbs-3.21-bioc/R/bin/R CMD check --install=check:NormalyzerDE.install-out.txt --library=/home/biocbuild/bbs-3.21-bioc/R/site-library --timings NormalyzerDE_1.25.0.tar.gz StartedAt: 2025-02-19 00:30:12 -0500 (Wed, 19 Feb 2025) EndedAt: 2025-02-19 00:34:26 -0500 (Wed, 19 Feb 2025) EllapsedTime: 254.4 seconds RetCode: 0 Status: WARNINGS CheckDir: NormalyzerDE.Rcheck Warnings: 1