Package: NormalyzerDE Version: 1.25.0 Command: /Library/Frameworks/R.framework/Resources/bin/R CMD build --keep-empty-dirs --no-resave-data NormalyzerDE StartedAt: 2025-02-19 17:37:14 -0500 (Wed, 19 Feb 2025) EndedAt: 2025-02-19 17:39:30 -0500 (Wed, 19 Feb 2025) EllapsedTime: 135.6 seconds RetCode: 0 Status: OK PackageFile: NormalyzerDE_1.25.0.tar.gz PackageFileSize: 1.112 MiB