Package: NoRCE Version: 1.19.0 Command: E:\biocbuild\bbs-3.21-bioc\R\bin\R.exe CMD check --no-multiarch --install=check:NoRCE.install-out.txt --library=E:\biocbuild\bbs-3.21-bioc\R\library --no-vignettes --timings NoRCE_1.19.0.tar.gz StartedAt: 2025-02-21 03:57:33 -0500 (Fri, 21 Feb 2025) EndedAt: 2025-02-21 04:03:26 -0500 (Fri, 21 Feb 2025) EllapsedTime: 353.1 seconds RetCode: 0 Status: OK CheckDir: NoRCE.Rcheck Warnings: 0